Workbook

Sheet 1
A1: Школа | B1: БМАОУ Лицей №7- понедельник | E1: Отд./корп | F1: неделя 2 | I1: День | J1: 1
A3: Прием пищи | B3: Раздел | C3: № рец. | D3: Блюдо | E3: Выход, г | F3: Цена | G3: Калорийность | H3: Белки | I3: Жиры | J3: Углеводы
A4: Завтрак | B4: гор.блюдо | C4: ="2/61" -> 2/61 | D4: Каша жидкая молочная рисовая с маслом сливочным | E4: 250 | F4: 54 | G4: 249.4 | H4: 8.29 | I4: 8.47 | J4: 37.47
B5: гор.напиток | C5: ="11/51" -> 11/51 | D5: Какао с молоком | E5: 200 | F5: 14 | G5: 105.77 | H5: 3.64 | I5: 2.73 | J5: 22
B6: хлеб
B7: гор.блюдо
C8: =[1]Лист1!$K$45 -> 1/13 | D8: Батон витаминизированный с маслом | E8: 50 | F8: 36 | G8: 114.72 | H8: 2.02 | I8: 6.03 | J8: 14.79
A9: Завтрак 2 | B9: фрукты
B11: итого | E11: 500 | F11: 104 | G11: =SUM(G4:G10) -> 469.89 | H11: =SUM(H4:H10) -> 13.95 | I11: =SUM(I4:I10) -> 17.23 | J11: =SUM(J4:J10) -> 74.26
A12: Обед | B12: закуска | C12: 7/80 | D12: Салат из отварной свеклы с солеными огурцами, яйцом и растительным маслом | E12: 80 | F12: 20 | G12: =[2]Лист1!J109 -> 68.985339 | H12: 1.03 | I12: 4.77 | J12: 6.38
B13: 1 блюдо | C13: 6/73 | D13: Щи из свежей капусты с картофелем и сметаной | E13: 200 | F13: 22 | G13: =[2]Лист1!J110 -> 134.46 | H13: 2.35 | I13: 9 | J13: 9.86
B14: 2 блюдо | C14: 20/9 | D14: Печень по-строгановски | E14: 100 | F14: 43 | G14: =[2]Лист1!J111 -> 145 | H14: 13.4 | I14: 6.2 | J14: 4.6
B15: гарнир | C15: 5/54 | D15: Макаронные изделия отварные | E15: 150 | F15: 20 | G15: =[2]Лист1!J112 -> 200.43623 | H15: 4.87 | I15: 4.07 | J15: 35.42
B16: сладкое | C16: 11/1 | D16: Компот из сухофруктов | E16: 200 | F16: 15 | G16: =[2]Лист1!J113 -> 83.96262 | H16: 0.14 | I16: 0.1 | J16: 21.64
B17: хлеб бел. | C17: - | D17: Хлеб пшеничный витаминизированный | E17: 40 | F17: =[2]Лист1!L114 -> 8 | G17: =[2]Лист1!J114 -> 89.5604 | H17: 2.64 | I17: 2.11 | J17: 18.76
B18: хлеб черн. | C18: - | D18: Хлеб ржаной витаминизированный | E18: 40 | F18: =[2]Лист1!L115 -> 8 | G18: =[2]Лист1!J115 -> 89.5604 | H18: 2.64 | I18: 0.26 | J18: 18.76
B19: итого | E19: =SUM(E10:E18) -> 1310 | F19: 136 | G19: =SUM(G10:G18) -> 1281.855 | H19: =SUM(H10:H18) -> 41.02 | I19: =SUM(I10:I18) -> 43.74 | J19: =SUM(J10:J18) -> 189.68
